BEGIN:VCALENDAR
VERSION:2.0
PRODID:-//Chauffeursvereniging Reusel - ECPv6.15.20//NONSGML v1.0//EN
CALSCALE:GREGORIAN
METHOD:PUBLISH
X-ORIGINAL-URL:https://chauffeursverenigingreusel.nl
X-WR-CALDESC:Evenementen voor Chauffeursvereniging Reusel
REFRESH-INTERVAL;VALUE=DURATION:PT1H
X-Robots-Tag:noindex
X-PUBLISHED-TTL:PT1H
BEGIN:VTIMEZONE
TZID:UTC
BEGIN:STANDARD
TZOFFSETFROM:+0000
TZOFFSETTO:+0000
TZNAME:UTC
DTSTART:20250101T000000
END:STANDARD
END:VTIMEZONE
BEGIN:VEVENT
DTSTART;TZID=UTC:20260620T080000
DTEND;TZID=UTC:20260620T170000
DTSTAMP:20260424T175307
CREATED:20260120T170521Z
LAST-MODIFIED:20260408T174053Z
UID:51-1781942400-1781974800@chauffeursverenigingreusel.nl
SUMMARY:Veiligheidsdag
DESCRIPTION:Aanmeldformulier Leerlingen\nSchakel JavaScript in je browser in om dit formulier in te vullen.Schakel JavaScript in je browser in om dit formulier in te vullen.Naam *VoornaamAchternaamE-mail *		\n			E-mail Ouder School\n			\n		\n		Telefoonnummer Ouder (noodnummer) SchoolDe LeilindeDe TorelaarDe KlimopClemmensschoolDe AkkerwindeD'n OpstapDe PiramideVerzend   \nAanmeldformulier Ouders\nSchakel JavaScript in je browser in om dit formulier in te vullen.Schakel JavaScript in je browser in om dit formulier in te vullen.Naam *VoornaamAchternaamTelefoonnummer *E-mail *		\n			E-mail Dagdeel Telefoonnummer\n			\n		\n		Dagdeel *Hele dagOchtendMiddagVerzend  \nVeiligheidsdag voor groep 8 – jaarlijks in juni\nSinds 1993 organiseert Chauffeurs Vereniging Reusel jaarlijks op de derde zaterdag van juni een Veiligheidsdag voor de groepen 8 van de basisscholen in de gemeente Reusel – De Mierden. Het doel van deze dag is om kinderen\, die na de zomervakantie naar de middelbare school gaan en dagelijks naar Bladel zullen fietsen\, bewust te maken van verkeersgevaar en hen te leren hoe ze hier veilig mee om kunnen gaan. \nOpzet van de dag\nDe dag is verdeeld in zes blokken van één uur\, waarbij elk blok een eigen activiteit heeft. Een belangrijk onderdeel is het kennen van de dode hoek en leren hoe je hier veilig mee omgaat. Tijdens een rit met een vrachtwagen ervaren de kinderen zelf waar een chauffeur dagelijks mee te maken heeft\, wat zorgt voor meer begrip tussen weggebruikers. \nDaarnaast werken diverse partijen mee aan de Veiligheidsdag\, waaronder politie\, brandweer\, ambulance\, Lotus-team\, EHBO en vele andere vrijwilligers. \nGratis en volledig verzorgd\nDe dag is volledig verzorgd en kosteloos voor de kinderen. Gedurende het schooljaar worden kinderen uit groep 8 meerdere keren geïnformeerd over de Veiligheidsdag en ontvangen zij tijdig een formulier om zich op te geven. Hoe groter de opkomst\, hoe veiliger onze gemeente wordt! \nVragen? Neem contact op via veiligheidsdag@hotmail.com.
URL:https://chauffeursverenigingreusel.nl/agenda/veiligheidsdag/
LOCATION:Busremise\, Hofstede 15\, Reusel\, Noord Brabant\, 5541SJ\, Netherlands
ATTACH;FMTTYPE=image/jpeg:https://chauffeursverenigingreusel.nl/wp-content/uploads/2026/01/Veiligheidsdag.jpg
ORGANIZER;CN="Chauffeursverenging Reusel":MAILTO:cvr-reusel@hotmail.com
END:VEVENT
END:VCALENDAR