BEGIN:VCALENDAR
VERSION:2.0
PRODID:-//Chauffeursvereniging Reusel - ECPv6.15.20//NONSGML v1.0//EN
CALSCALE:GREGORIAN
METHOD:PUBLISH
X-ORIGINAL-URL:https://chauffeursverenigingreusel.nl
X-WR-CALDESC:Evenementen voor Chauffeursvereniging Reusel
REFRESH-INTERVAL;VALUE=DURATION:PT1H
X-Robots-Tag:noindex
X-PUBLISHED-TTL:PT1H
BEGIN:VTIMEZONE
TZID:UTC
BEGIN:STANDARD
TZOFFSETFROM:+0000
TZOFFSETTO:+0000
TZNAME:UTC
DTSTART:20250101T000000
END:STANDARD
END:VTIMEZONE
BEGIN:VEVENT
DTSTART;TZID=UTC:20260628T100000
DTEND;TZID=UTC:20260628T120000
DTSTAMP:20260424T175317
CREATED:20260120T170655Z
LAST-MODIFIED:20260207T131819Z
UID:54-1782640800-1782648000@chauffeursverenigingreusel.nl
SUMMARY:Autozegening
DESCRIPTION:Autozegening in Reusel \nElk jaar organiseert Chauffeurs Vereniging Reusel de Autozegening op de tweede zondag na de derde zaterdag van juni. Dat klinkt misschien wat ingewikkeld\, maar de reden is eenvoudig: op de derde zaterdag van juni vindt onze Veiligheidsdag plaats en in het daaropvolgende weekend wordt de Autozegening gehouden. \nTijdens deze ochtend zijn alle weggebruikers van harte welkom om hun voertuig te laten zegenen door de pastoor. Met deze zegening hopen we dat iedereen weer een jaar lang veilig de weg op kan. \nDe Autozegening vindt dit jaar plaats op zondag 28 juni 2026 op industrieterrein Kleine Hoeven.
URL:https://chauffeursverenigingreusel.nl/agenda/autozegening/
LOCATION:Nas Roadshow\, Hofstede 16\, Reusel\, Noord Brabant\, 5541SJ\, Netherlands
ATTACH;FMTTYPE=image/jpeg:https://chauffeursverenigingreusel.nl/wp-content/uploads/2026/01/Autozegening.jpg
ORGANIZER;CN="Chauffeursverenging Reusel":MAILTO:cvr-reusel@hotmail.com
END:VEVENT
END:VCALENDAR