BEGIN:VCALENDAR
VERSION:2.0
PRODID:-//Chauffeursvereniging Reusel - ECPv6.15.20//NONSGML v1.0//EN
CALSCALE:GREGORIAN
METHOD:PUBLISH
X-ORIGINAL-URL:https://chauffeursverenigingreusel.nl
X-WR-CALDESC:Evenementen voor Chauffeursvereniging Reusel
REFRESH-INTERVAL;VALUE=DURATION:PT1H
X-Robots-Tag:noindex
X-PUBLISHED-TTL:PT1H
BEGIN:VTIMEZONE
TZID:UTC
BEGIN:STANDARD
TZOFFSETFROM:+0000
TZOFFSETTO:+0000
TZNAME:UTC
DTSTART:20250101T000000
END:STANDARD
END:VTIMEZONE
BEGIN:VEVENT
DTSTART;TZID=UTC:20260906T080000
DTEND;TZID=UTC:20260906T170000
DTSTAMP:20260424T201744
CREATED:20260120T182856Z
LAST-MODIFIED:20260120T192849Z
UID:98-1788681600-1788714000@chauffeursverenigingreusel.nl
SUMMARY:Truckrun Reusel – De Mierden
DESCRIPTION:Truckrun Reusel – De Mierden\nDe Truckrun Reusel – De Mierden is een unieke en bijzondere tocht waarbij 100 vrachtwagens door de prachtige Kempen rijden\, speciaal voor mensen met een beperking. Het evenement staat garant voor een onvergetelijke ervaring en veel plezier voor de deelnemers. \nOpzet van de tocht\nDe Truckrun bestaat uit twee delen\, waarbij de deelnemers onderweg volop kunnen genieten van het indrukwekkende vrachtwagenparcours\, de enthousiaste begeleiding door chauffeurs en vrijwilligers\, en natuurlijk het vrolijke geluid van claxons die overal klinken. \nDeelnemers worden getrakteerd op de mooiste\, glimmende vrachtwagens en de grote glimlachen van zowel chauffeurs als bijrijders\, waardoor het een onvergetelijke dag wordt voor iedereen. \nHet evenement is niet alleen een geweldige belevenis voor de deelnemers\, maar ook een indrukwekkend gezicht en een feest voor het oor voor bezoekers en buurtbewoners die de stoet onderweg zien passeren.
URL:https://chauffeursverenigingreusel.nl/agenda/truckrun-reusel-de-mierden/
LOCATION:Manege Meulenhoai\, Hulselsedijk 34\, Reusel\, Noord Brabant\, 5441RP\, Netherlands
ATTACH;FMTTYPE=image/jpeg:https://chauffeursverenigingreusel.nl/wp-content/uploads/2026/01/Autozegening-1.jpg
END:VEVENT
END:VCALENDAR