BEGIN:VCALENDAR
VERSION:2.0
PRODID:-//Chauffeursvereniging Reusel - ECPv6.15.20//NONSGML v1.0//EN
CALSCALE:GREGORIAN
METHOD:PUBLISH
X-WR-CALNAME:Chauffeursvereniging Reusel
X-ORIGINAL-URL:https://chauffeursverenigingreusel.nl
X-WR-CALDESC:Evenementen voor Chauffeursvereniging Reusel
REFRESH-INTERVAL;VALUE=DURATION:PT1H
X-Robots-Tag:noindex
X-PUBLISHED-TTL:PT1H
BEGIN:VTIMEZONE
TZID:UTC
BEGIN:STANDARD
TZOFFSETFROM:+0000
TZOFFSETTO:+0000
TZNAME:UTC
DTSTART:20260101T000000
END:STANDARD
END:VTIMEZONE
BEGIN:VEVENT
DTSTART;TZID=UTC:20270103T083000
DTEND;TZID=UTC:20270103T110000
DTSTAMP:20260425T111553
CREATED:20260120T185125Z
LAST-MODIFIED:20260120T192820Z
UID:103-1798965000-1798974000@chauffeursverenigingreusel.nl
SUMMARY:WinterWandeling
DESCRIPTION:✨ Wandel je fris het nieuwe jaar in! ✨ \nWe hebben weer mooie routes uitgestippeld. Trek je wandelschoenen aan en kom gezellig wandelen op 3 januari 2026. \n💶 Kosten: €10\n☕ Bij aankomst ontvang je koffie of thee met iets lekkers\n🥣 Na afloop staat er heerlijke erwtensoep klaar en krijg je nog een drankje \nStart het nieuwe jaar actief en gezellig bij het prachtige Outdoorpark Reusel 🌳 \n⸻ \nWaarom meedoen? \nAlle opbrengsten van deze dag gaan volledig naar onze Veiligheidsdag voor de kinderen van groep 8 in de gemeente Reusel-De Mierden.\nMet jouw deelname steun je een leerzame en belangrijke dag voor de jeugd! \n📍 Locatie: Outdoorpark Reusel\, Burgemeester Willekenslaan 5\, Reusel\n📅 Datum: 3 januari 2027\n⏰ Starttijd: tussen 8:30 en 11:00 uur\n👟 Neem mee: goede wandelschoenen en een goed humeur
URL:https://chauffeursverenigingreusel.nl/agenda/winterwandeling/
LOCATION:Outdoorpark Reusel\, Burgemeester Willekenslaan 5\,\, Reusel\, Noord Brabant\, Netherlands
ATTACH;FMTTYPE=image/webp:https://chauffeursverenigingreusel.nl/wp-content/uploads/2026/01/Autozegening-3-1.webp
END:VEVENT
END:VCALENDAR