BEGIN:VCALENDAR
VERSION:2.0
PRODID:-//Chauffeursvereniging Reusel - ECPv6.15.20//NONSGML v1.0//EN
CALSCALE:GREGORIAN
METHOD:PUBLISH
X-WR-CALNAME:Chauffeursvereniging Reusel
X-ORIGINAL-URL:https://chauffeursverenigingreusel.nl
X-WR-CALDESC:Evenementen voor Chauffeursvereniging Reusel
REFRESH-INTERVAL;VALUE=DURATION:PT1H
X-Robots-Tag:noindex
X-PUBLISHED-TTL:PT1H
BEGIN:VTIMEZONE
TZID:UTC
BEGIN:STANDARD
TZOFFSETFROM:+0000
TZOFFSETTO:+0000
TZNAME:UTC
DTSTART:20250101T000000
END:STANDARD
END:VTIMEZONE
BEGIN:VEVENT
DTSTART;TZID=UTC:20260301T100000
DTEND;TZID=UTC:20260301T120000
DTSTAMP:20260424T153657
CREATED:20260120T163807Z
LAST-MODIFIED:20260120T170719Z
UID:26-1772359200-1772366400@chauffeursverenigingreusel.nl
SUMMARY:Lezing Samen sterk tegen criminaliteit in Transport en Logistiek
DESCRIPTION:Op zondag 1 maart 2026 organiseert Chauffeursvereniging Reusel in samenwerking met PVO een lezing Samen sterk tegen criminaliteit in Transport en Logistiek als onderdeel van #StrongLogistics \n#StrongLogistics is een samenwerking van de politie\, Douane Nederland\, Koninklijke Marechaussee en Platform Veilig Ondernemen. Samen willen we de sector weerbaarder maken tegen georganiseerde criminaliteit. \nSchakel JavaScript in je browser in om dit formulier in te vullen.Schakel JavaScript in je browser in om dit formulier in te vullen.Naam *VoornaamAchternaam		\n			Telefoonnummer E-mail Bedrijf\n			\n		\n		Telefoonnummer *E-mail *BedrijfAanmelden.
URL:https://chauffeursverenigingreusel.nl/agenda/lezing-samen-sterk-tegen-criminaliteit-in-transport-en-logistiek/
LOCATION:De Wekker\, Wilheminalaan 97\, 5541CV
ATTACH;FMTTYPE=image/jpeg:https://chauffeursverenigingreusel.nl/wp-content/uploads/2026/01/Autozegening-4.jpg
ORGANIZER;CN="Chauffeursverenging Reusel":MAILTO:cvr-reusel@hotmail.com
END:VEVENT
END:VCALENDAR